BEGIN:VCALENDAR
VERSION:2.0
PRODID:-//wp-events-plugin.com//7.2.3.1//EN
BEGIN:VEVENT
UID:57@uzivo24.com
DTSTART;TZID=Europe/Zurich:20230610T200000
DTEND;TZID=Europe/Zurich:20230610T200000
DTSTAMP:20230515T103711Z
URL:https://uzivo24.com/dogadjaji/humanitarni-rock-party-you-rock-4-life/
SUMMARY:Humanitarni Rock Party - You Rock 4 life
DESCRIPTION:Poštovani\, YoU Rock 4 Life organizuje\n10.06.2023\n@Dynamo W
 erk Zürich\nHumanitarni Koncert\nu kome učestuje:\nAmnezija Band\n@suma_
 covjek\n@yu_grupa_official\nNakon duže Pauze biće nam drago kao i uvjek 
 da vas ugostimo i da se družimo u što većem broju.\nKarte možete kupit
 i na Linku ovde\nhttps://eventfrog.ch/de/p/konzert/pop-rock/yu-grupa-uma-o
 vjek-amnezija-bend-you-rock-4-life-7047282531943479220.html
ATTACH;FMTTYPE=image/jpeg:https://uzivo24.com/wp-content/uploads/2023/05/H
 umanitarni-rock-party.jpg
CATEGORIES:Dogadjaji,Društvena okupljanja
LOCATION:Dynamo Werk 21\, WASSERWERKSTRASSE 21\, Zurich\, 8006 \, Switzerla
 nd
X-APPLE-STRUCTURED-LOCATION;VALUE=URI;X-ADDRESS=WASSERWERKSTRASSE 21\, Zuri
 ch\, 8006 \, Switzerland;X-APPLE-RADIUS=100;X-TITLE=Dynamo Werk 21:geo:0,0
END:VEVENT
BEGIN:VTIMEZONE
TZID:Europe/Zurich
X-LIC-LOCATION:Europe/Zurich
BEGIN:DAYLIGHT
DTSTART:20230326T030000
TZOFFSETFROM:+0100
TZOFFSETTO:+0200
TZNAME:CEST
END:DAYLIGHT
END:VTIMEZONE
END:VCALENDAR